BEGIN:VCALENDAR
VERSION:2.0
PRODID:
BEGIN:VEVENT
UID:365632imp
DTSTAMP:20260421T201054Z
DTSTART:20270427T200000Z
DTEND:20270427T220000Z
SUMMARY: Self-Rental Real Estate: Passive Activity & Section 199A
DESCRIPTION: This program presents a detailed analysis of the self-rental passive activity rules\, including forms reporting examples and integrates them with the flow-through entity rules related to self-rental.

This event may be a rebroadcast of a live event and the instructor will be available to answer your questions during the event.This course is being offered by a learning partner and will not be accessible on your My CPE page. Access information will be emailed directly to you by CPA Crossings\n 
CLASS:PUBLIC
END:VEVENT
END:VCALENDAR
