BEGIN:VCALENDAR
VERSION:2.0
PRODID:
BEGIN:VEVENT
UID:365612imp
DTSTAMP:20260423T202600Z
DTSTART:20270427T133000Z
DTEND:20270427T153000Z
SUMMARY: Fraud Busters: Controls to Prevent & Detect Fraud
DESCRIPTION: This course investigates actual real-world fraud schemes and discusses what controls could have prevented the fraud from occurring\, and what controls could detect and curtail the fraud scheme.  The instructor speaks from experience\, finding multiple frauds very early in her career leading to a career-long focus on fraud prevention and detection.

This event may be a rebroadcast of a live event and the instructor will be available to answer your questions during the event.This course is being offered by a learning partner and will not be accessible on your My CPE page. Access information will be emailed directly to you by CPA Crossings\n 
CLASS:PUBLIC
END:VEVENT
END:VCALENDAR
