BEGIN:VCALENDAR
VERSION:2.0
PRODID:
BEGIN:VEVENT
UID:365603imp
DTSTAMP:20260422T232546Z
DTSTART:20270426T180000Z
DTEND:20270426T200000Z
SUMMARY: Retirement Planning: Next Stage for You or Your Client
DESCRIPTION: If you or your clients are facing that stage of life where careers are passing into the background\, and a new "to be determined" life is emerging\, then you are entering what is called "retirement". Some people are excited\, some are scared\, and most are both. There are many issues and questions people face at this time - what to do with time\, financial\, relationships\, health\, identity and more. 

This program summarizes the key research studies\, provides stories from those who have made this work\, and offers thoughtful\, practical exercises from my award winning book NEXT STAGE. It will help you (or your clients) address key issues and develop a Master Plan for the transition. If not now\, when?  

This event may be a rebroadcast of a live event and the instructor will be available to answer your questions during the event.This course is being offered by a learning partner and will not be accessible on your My CPE page. Access information will be emailed directly to you by CPA Crossings\n 
CLASS:PUBLIC
END:VEVENT
END:VCALENDAR
