BEGIN:VCALENDAR
VERSION:2.0
PRODID:
BEGIN:VEVENT
UID:365438imp
DTSTAMP:20260423T193603Z
DTSTART:20270416T190000Z
DTEND:20270416T210000Z
SUMMARY: Basic Individual Taxation Course
DESCRIPTION: Please join us for an introductory course on the fundamentals of preparing and filing an individual federal income tax return. We will cover topics such as what the federal income tax is and how it is computed.

This event may be a rebroadcast of a live event and the instructor will be available to answer your questions during the event.This course is being offered by a learning partner and will not be accessible on your My CPE page. Access information will be emailed directly to you by CPA Crossings\n 
CLASS:PUBLIC
END:VEVENT
END:VCALENDAR
