BEGIN:VCALENDAR
VERSION:2.0
PRODID:
BEGIN:VEVENT
UID:365306imp
DTSTAMP:20260423T032932Z
DTSTART:20270410T150000Z
DTEND:20270410T170000Z
SUMMARY: Adobe Acrobat Tips for Working with PDF Files
DESCRIPTION: If you find yourself working with PDF files consistently throughout the day\, this course will teach you how to review\, annotate\, format and organize PDF files more effectively and in less time. You will also learn how to use Adobe Acrobat for e-signatures to reduce document processing time significantly and enhance confidentiality. Adobe Acrobat has many features that you can take advantage of and this course will explain and demonstrate how to use them.

This event may be a rebroadcast of a live event and the instructor will be available to answer your questions during the event.This course is being offered by a learning partner and will not be accessible on your My CPE page. Access information will be emailed directly to you by CPA Crossings\n 
CLASS:PUBLIC
END:VEVENT
END:VCALENDAR
