BEGIN:VCALENDAR
VERSION:2.0
PRODID:
BEGIN:VEVENT
UID:365221imp
DTSTAMP:20260421T233459Z
DTSTART:20270406T190000Z
DTEND:20270406T210000Z
SUMMARY: AI Lessons Learned for Accountants
DESCRIPTION: This course provides accountants with the leading AI insights and strategies drawn from real-world experience\, empirical studies\, countless CPA case studies\, and social media commentary. It goes beyond theory\, offering practical lessons learned from the front lines of AI implementation in the business world and accounting industry. Participants will gain actionable knowledge on bridging the theory-application gap\, navigating exponential technological changes\, and creating secure\, adaptive AI policies. By the end of the session\, accountants will be equipped to leverage AI responsibly and innovatively in their roles.


This event may be a rebroadcast of a live event and the instructor will be available to answer your questions during the event.This course is being offered by a learning partner and will not be accessible on your My CPE page. Access information will be emailed directly to you by CPA Crossings\n 
CLASS:PUBLIC
END:VEVENT
END:VCALENDAR
