BEGIN:VCALENDAR
VERSION:2.0
PRODID:
BEGIN:VEVENT
UID:365214imp
DTSTAMP:20260423T060851Z
DTSTART:20270406T170000Z
DTEND:20270406T210000Z
SUMMARY: Yellow Book Independence and Single Audit Fundamentals
DESCRIPTION: This CPE course explains Yellow Book independence including the general requirements\, requirements for auditors providing non-audit services and documentation requirements. This course also explains the basic elements of a Uniform Guidance compliance audit\, including an overview of requirements\, major program determination with examples\, an understanding of compliance requirements and related internal control over compliance\, sampling\, and single audit reporting.

This event may be a rebroadcast of a live event and the instructor will be available to answer your questions during the event.This course is being offered by a learning partner and will not be accessible on your My CPE page. Access information will be emailed directly to you by CPA Crossings\n 
CLASS:PUBLIC
END:VEVENT
END:VCALENDAR
