BEGIN:VCALENDAR
VERSION:2.0
PRODID:
BEGIN:VEVENT
UID:365107imp
DTSTAMP:20260422T223329Z
DTSTART:20270331T183000Z
DTEND:20270331T203000Z
SUMMARY: Microsoft Copilot Deep Dive Hands-on Bootcamp for CPAs
DESCRIPTION: Microsoft 365 is one of the most widely used business applications software suites used in business today. Microsoft Copilot is the generative AI application that is integrated directly into the Microsoft 365 ecosystem. If your firm or business is a Microsoft 365 user\, this course will teach you how to use Copilot AI to optimize the use of your Microsoft 365 apps. This course will provide a comprehensive review and demonstration of how to put Microsoft Copilot AI to work for you and your clients. It is designed as a "hands-on" course that facilitates following along with the presenter to apply the features  of Microsoft Copilot on your computer. Practice files will be provided so that you don't have to expose your confidential data.

This event may be a rebroadcast of a live event and the instructor will be available to answer your questions during the event.This course is being offered by a learning partner and will not be accessible on your My CPE page. Access information will be emailed directly to you by CPA Crossings\n 
CLASS:PUBLIC
END:VEVENT
END:VCALENDAR
