BEGIN:VCALENDAR
VERSION:2.0
PRODID:
BEGIN:VEVENT
UID:365051imp
DTSTAMP:20260423T215530Z
DTSTART:20270329T170000Z
DTEND:20270329T190000Z
SUMMARY: CFO & Controller Critical Skills: Budgeting & Forecasting
DESCRIPTION: The budget and the forecast are two common tools used by controllers and CFOs across almost every industry. However\, are we really getting the most out of these tools? Or are we merely replicating whatever was done last year? In this course\, we will use examples and illustrations to demonstrate various budgeting and forecasting techniques. We will discuss traditional approaches\, as well as newer approaches such as flexible budgeting\, in an effort to show how companies can gain more value. 

This event may be a rebroadcast of a live event and the instructor will be available to answer your questions during the event.This course is being offered by a learning partner and will not be accessible on your My CPE page. Access information will be emailed directly to you by CPA Crossings\n 
CLASS:PUBLIC
END:VEVENT
END:VCALENDAR
