BEGIN:VCALENDAR
VERSION:2.0
PRODID:
BEGIN:VEVENT
UID:365044imp
DTSTAMP:20260423T101332Z
DTSTART:20270329T140000Z
DTEND:20270329T160000Z
SUMMARY: Bytes\, Bias\, and Balance: Data Ethics for Savvy Accountants
DESCRIPTION: This course explores the transformative role of artificial intelligence (AI) in accounting and auditing\, highlighting its vast potential while addressing the associated risks and ethical considerations. Participants will discover how to harness AI tools to enhance efficiency and innovation\, while mitigating challenges such as overreliance\, data security vulnerabilities\, and ethical dilemmas. Through case studies and interactive discussions\, you'll gain practical skills to navigate AI complexities\, ensure trustworthy outputs\, and uphold ethical standards in today's fast-paced digital environment.

This event may be a rebroadcast of a live event and the instructor will be available to answer your questions during the event.This course is being offered by a learning partner and will not be accessible on your My CPE page. Access information will be emailed directly to you by CPA Crossings\n 
CLASS:PUBLIC
END:VEVENT
END:VCALENDAR
