BEGIN:VCALENDAR
VERSION:2.0
PRODID:
BEGIN:VEVENT
UID:365001imp
DTSTAMP:20260423T214500Z
DTSTART:20270326T140000Z
DTEND:20270326T220000Z
SUMMARY: Understanding and Creating an Internal Control System
DESCRIPTION: Successful organizations\, both large and small\, must understand the importance of effective internal controls and be able to develop a system of controls that will keep the entity on its intended course. Moreover\, those that design policies and procedures benefit by knowing why control measures are necessary. This session sets forth internal control concepts and explains the importance of strong internal control policies. The material highlights some of the reasons that measures are needed and it also provides an overview of control creation methods. Finally\, it discusses ways to successfully implement the developed policies and procedures. Participants that take this course will gain a well-rounded understanding of internal control procedures of all types.

This event may be a rebroadcast of a live event and the instructor will be available to answer your questions during the event.This course is being offered by a learning partner and will not be accessible on your My CPE page. Access information will be emailed directly to you by CPA Crossings\n 
CLASS:PUBLIC
END:VEVENT
END:VCALENDAR
