BEGIN:VCALENDAR
VERSION:2.0
PRODID:
BEGIN:VEVENT
UID:364986imp
DTSTAMP:20260424T104922Z
DTSTART:20270325T170000Z
DTEND:20270325T210000Z
SUMMARY: Comprehensive Audit & SSARS Update
DESCRIPTION: This course covers recently issued standards from the AICPA Auditing Standards Board and AICPA Accounting and Review Services Committee including the new Quality Management Standards. The session will highlight projects in progress at the Public Company Accounting Oversight Board\, and International Auditing and Assurance Standards Board. The course will also recap recent changes and present common peer review findings and best practices to improve practice quality.

This event may be a rebroadcast of a live event and the instructor will be available to answer your questions during the event.This course is being offered by a learning partner and will not be accessible on your My CPE page. Access information will be emailed directly to you by CPA Crossings\n 
CLASS:PUBLIC
END:VEVENT
END:VCALENDAR
