BEGIN:VCALENDAR
VERSION:2.0
PRODID:
BEGIN:VEVENT
UID:364982imp
DTSTAMP:20260422T221948Z
DTSTART:20270325T153000Z
DTEND:20270325T193000Z
SUMMARY: The One Big Beautiful Bill:   2025 tax legislation
DESCRIPTION: The President signed on July 4\, 2025\, one of most consequential tax legislation in recent years.  The well-informed tax practitioner will want to stay abreast of these developments!  This course will start with a short background of this legislation as it made its way through Congress and to the President's desk.  We will then review the final provisions that was approved by the Senate and passed by the House.   

This event may be a rebroadcast of a live event and the instructor will be available to answer your questions during the event.This course is being offered by a learning partner and will not be accessible on your My CPE page. Access information will be emailed directly to you by CPA Crossings\n 
CLASS:PUBLIC
END:VEVENT
END:VCALENDAR
