BEGIN:VCALENDAR
VERSION:2.0
PRODID:
BEGIN:VEVENT
UID:364914imp
DTSTAMP:20260422T042457Z
DTSTART:20270322T180000Z
DTEND:20270322T220000Z
SUMMARY: Forensic Accounting: Court Approved Methods of Proof
DESCRIPTION: How does a forensic accountant calculate financial losses? Federal courts have approved various ways to calculate losses ranging from net worth method of proof to the expenditures method. Each method of proof depends on the available facts to the forensic accountant. This presentation will focus on the various court approved methods of proof\, when to use them\, and how to calculate the total loss.

This event may be a rebroadcast of a live event and the instructor will be available to answer your questions during the event.This course is being offered by a learning partner and will not be accessible on your My CPE page. Access information will be emailed directly to you by CPA Crossings\n 
CLASS:PUBLIC
END:VEVENT
END:VCALENDAR
