BEGIN:VCALENDAR
VERSION:2.0
PRODID:
BEGIN:VEVENT
UID:364865imp
DTSTAMP:20260422T223319Z
DTSTART:20270318T190000Z
DTEND:20270318T210000Z
SUMMARY: Navigating IRS Authorizations: Form 2848 & Form 8821
DESCRIPTION: Providing a practical overview of the IRS Power of Attorney\, Form 2848\, and IRS Tax Information Authorization\, Form 8821.  Participants will explore the differences between these forms\, understand when each is required\, and how to comply with IRS requirements for representing clients and accessing their tax information.  The course will cover practical issues\, ethical considerations\, and best practices for managing client authorizations through the IRS Centralized Authorization File (CAF) system.

This event may be a rebroadcast of a live event and the instructor will be available to answer your questions during the event.This course is being offered by a learning partner and will not be accessible on your My CPE page. Access information will be emailed directly to you by CPA Crossings\n 
CLASS:PUBLIC
END:VEVENT
END:VCALENDAR
