BEGIN:VCALENDAR
VERSION:2.0
PRODID:
BEGIN:VEVENT
UID:364856imp
DTSTAMP:20260422T022859Z
DTSTART:20270318T160000Z
DTEND:20270318T170000Z
SUMMARY: 2026/27 Not-for-Profit GAAP Update
DESCRIPTION: Stay current on the latest accounting developments affecting not-for-profit organizations with this timely GAAP update. This course reviews recently issued Financial Accounting Standards Board Accounting Standards Updates (ASUs) impacting NFP financial reporting\, along with standard-setting projects currently in the FASB pipeline.

The course also introduces the International Non-Profit Accounting Standard (INPAS)-the first comprehensive global accounting framework designed specifically for non-profit organizations\, launched in October 2025. Participants will gain perspective on the purpose and structure of INPAS and how it compares conceptually to U.S. GAAP requirements for NFPs.

This course is designed to help practitioners\, financial leaders\, and auditors of not-for-profit organizations understand both current GAAP requirements and emerging global developments shaping the future of nonprofit financial reporting.

This event may be a rebroadcast of a live event and the instructor will be available to answer your questions during the event.This course is being offered by a learning partner and will not be accessible on your My CPE page. Access information will be emailed directly to you by CPA Crossings\n 
CLASS:PUBLIC
END:VEVENT
END:VCALENDAR
