BEGIN:VCALENDAR
VERSION:2.0
PRODID:
BEGIN:VEVENT
UID:364795imp
DTSTAMP:20260423T190742Z
DTSTART:20270316T130000Z
DTEND:20270316T210000Z
SUMMARY: 2025-2026 Federal Tax Updates - Business Entities
DESCRIPTION: The tax landscape is constantly changing\, challenging tax practitioner to stay abreast of these developments. This eight hour program will cover issues unique to business entities\, including new court decisions\, recent IRS publications\, and the latest tax legislation that will impact businesses and individuals. The remaining time will be spent on IRS procedure and other issues. This course will provide a concise look at the hottest topics affecting every tax practitioner.

This event may be a rebroadcast of a live event and the instructor will be available to answer your questions during the event.This course is being offered by a learning partner and will not be accessible on your My CPE page. Access information will be emailed directly to you by CPA Crossings\n 
CLASS:PUBLIC
END:VEVENT
END:VCALENDAR
