BEGIN:VCALENDAR
VERSION:2.0
PRODID:
BEGIN:VEVENT
UID:364746imp
DTSTAMP:20260422T232911Z
DTSTART:20270312T180000Z
DTEND:20270312T220000Z
SUMMARY: Enterprise-Wide Risk Management in Accounting and Finance
DESCRIPTION: Organizations are challenged with identifying\, evaluating\, and responding to a wide variety of risks.  This course will discuss tips and best practices for enterprise-wide risk management for accounting and finance professionals.

This event may be a rebroadcast of a live event and the instructor will be available to answer your questions during the event.This course is being offered by a learning partner and will not be accessible on your My CPE page. Access information will be emailed directly to you by CPA Crossings\n 
CLASS:PUBLIC
END:VEVENT
END:VCALENDAR
