BEGIN:VCALENDAR
VERSION:2.0
PRODID:
BEGIN:VEVENT
UID:364725imp
DTSTAMP:20260422T223350Z
DTSTART:20270311T200000Z
DTEND:20270311T220000Z
SUMMARY: Agentic AI for CPAs: Automate Workflows with Intelligence
DESCRIPTION: The newest evolution of AI technology is Agentic AI. This technology enables you to deploy AI agents to take action on your behalf and execute tasks. Agentic AI is the key enabler to using AI technology to automate your workflows. Learning how to take advantage of AI agents provides a substantial competitive advantage. This course will teach you the fundamentals of agentic AI and how you can put them to work in your firm or business.

This event may be a rebroadcast of a live event and the instructor will be available to answer your questions during the event.This course is being offered by a learning partner and will not be accessible on your My CPE page. Access information will be emailed directly to you by CPA Crossings\n 
CLASS:PUBLIC
END:VEVENT
END:VCALENDAR
