BEGIN:VCALENDAR
VERSION:2.0
PRODID:
BEGIN:VEVENT
UID:364665imp
DTSTAMP:20260422T043209Z
DTSTART:20270309T183000Z
DTEND:20270309T203000Z
SUMMARY: What's Behind the Data?
DESCRIPTION: We are bombarded with information continually.  So how do we determine what is valid and what isn't?  This course points out common pitfalls inherent in data interpretation and gives practical tips to overcome those pitfalls by using real life examples.  The course incorporates information from key thought leaders including Adam Grant\, Alex Edmans\, and Hans Rosling.

This event may be a rebroadcast of a live event and the instructor will be available to answer your questions during the event.This course is being offered by a learning partner and will not be accessible on your My CPE page. Access information will be emailed directly to you by CPA Crossings\n 
CLASS:PUBLIC
END:VEVENT
END:VCALENDAR
