BEGIN:VCALENDAR
VERSION:2.0
PRODID:
BEGIN:VEVENT
UID:364656imp
DTSTAMP:20260423T010852Z
DTSTART:20270309T153000Z
DTEND:20270309T173000Z
SUMMARY: Mastering Partnership Basis: Inside and Outside Basis
DESCRIPTION: This course will provide a detailed analysis of how to determine a partner's tax basis for a partnership interest\, with an explanation of the use of both "inside" and "outside" basis determination.  An illustrated example with filled in forms will demonstrate how the process works and the potential pitfalls.



This event may be a rebroadcast of a live event and the instructor will be available to answer your questions during the event.This course is being offered by a learning partner and will not be accessible on your My CPE page. Access information will be emailed directly to you by CPA Crossings\n 
CLASS:PUBLIC
END:VEVENT
END:VCALENDAR
