BEGIN:VCALENDAR
VERSION:2.0
PRODID:
BEGIN:VEVENT
UID:364590imp
DTSTAMP:20260422T223609Z
DTSTART:20270304T183000Z
DTEND:20270304T203000Z
SUMMARY: Forgotten Managerial Accounting Tools for CPAs
DESCRIPTION: This session revisits managerial accounting techniques that you may not have considered for many years\, even though they could be invaluable for CPAs in both business and public accounting. You will appreciate a fresh perspective of concepts you may not have considered since your college days. We will illustrate concepts with practical examples that you can immediately bring back to the office!

This event may be a rebroadcast of a live event and the instructor will be available to answer your questions during the event.This course is being offered by a learning partner and will not be accessible on your My CPE page. Access information will be emailed directly to you by CPA Crossings\n 
CLASS:PUBLIC
END:VEVENT
END:VCALENDAR
