BEGIN:VCALENDAR
VERSION:2.0
PRODID:
BEGIN:VEVENT
UID:364494imp
DTSTAMP:20260423T215417Z
DTSTART:20270301T080000Z
DTEND:20270301T180000Z
SUMMARY: LEARNING PATH: Strategic Growth and Personal Development
DESCRIPTION: REGISTRATION INSTRUCTIONS:

This is a Learning Path which contains several courses for a total of 10 CPE.

Once registered\, detailed instructions will be emailed to sign up for each individual course.

You must attend each course by April 30\, 2027.This course is being offered by a learning partner and will not be accessible on your My CPE page. Access information will be emailed directly to you by CPA Crossings\n 
CLASS:PUBLIC
END:VEVENT
END:VCALENDAR
