BEGIN:VCALENDAR
VERSION:2.0
PRODID:
BEGIN:VEVENT
UID:364403imp
DTSTAMP:20260422T223527Z
DTSTART:20270223T220000Z
DTEND:20270223T230000Z
SUMMARY: Calculating the Retirement Need
DESCRIPTION: For most people\, funding their own retirement is the largest expense they will ever have.  Due to advances in medical technology and overall healthier lifestyles\, it is not unusual for someone to live 30 years or more in retirement.  In this course\, we will discuss how to quantify and calculate the retirement needs of the client.  We will talk about time value of money concepts\, how to help clients quantify their retirement goals\, and even how to address risk perceptions.  By doing this\, we will allow practitioners to be able to better address client questions and frame trade-offs when necessary.

This event may be a rebroadcast of a live event and the instructor will be available to answer your questions during the event.This course is being offered by a learning partner and will not be accessible on your My CPE page. Access information will be emailed directly to you by CPA Crossings\n 
CLASS:PUBLIC
END:VEVENT
END:VCALENDAR
