BEGIN:VCALENDAR
VERSION:2.0
PRODID:
BEGIN:VEVENT
UID:364285imp
DTSTAMP:20260423T053809Z
DTSTART:20270217T160000Z
DTEND:20270217T180000Z
SUMMARY: Microsoft Outlook "Must Know" Email Tips
DESCRIPTION: If you use Outlook on a daily basis to process your email\, chances are pretty good that you are missing out on a lot of opportunities to improve your efficiency in composing\, processing and organizing your messages. There are many different features in Outlook that often get overlooked\, even though we are working in the app all day\, every day. John Higgins\, a strategic advisor to the profession on Microsoft 365 deployment\, will review numerous tips and features to improve your productivity in Outlook. You will learn many time-saving\, practical ways to improve the quality of your email message.

This event may be a rebroadcast of a live event and the instructor will be available to answer your questions during the event.This course is being offered by a learning partner and will not be accessible on your My CPE page. Access information will be emailed directly to you by CPA Crossings\n 
CLASS:PUBLIC
END:VEVENT
END:VCALENDAR
