BEGIN:VCALENDAR
VERSION:2.0
PRODID:
BEGIN:VEVENT
UID:364262imp
DTSTAMP:20260422T044311Z
DTSTART:20270216T173000Z
DTEND:20270216T183000Z
SUMMARY: Beyond the Basics: Financial Ratios You Might Be Overlooking
DESCRIPTION: Overview: Understanding your company's financial health requires more than just traditional metrics. This webinar is designed to reveal deeper insights through advanced\, underutilized financial ratios. In this session\, accounting and finance professionals will explore metrics such as operating leverage\, free cash flow yield\, and margin of safety-tools that go beyond standard ratios to deliver nuanced perspectives on profitability\, risk exposure\, and operational efficiency.

This event may be a rebroadcast of a live event and the instructor will be available to answer your questions during the event.This course is being offered by a learning partner and will not be accessible on your My CPE page. Access information will be emailed directly to you by CPA Crossings\n 
CLASS:PUBLIC
END:VEVENT
END:VCALENDAR
