BEGIN:VCALENDAR
VERSION:2.0
PRODID:
BEGIN:VEVENT
UID:364228imp
DTSTAMP:20260423T060032Z
DTSTART:20270215T143000Z
DTEND:20270215T183000Z
SUMMARY: Comprehensive Accounting and Financial Reporting Update
DESCRIPTION: This course covers recently issued accounting and financial statement reporting standards from the Financial Accounting Standards Board. Key implementation challenges and experiences from public company filings will be identified.

This event may be a rebroadcast of a live event and the instructor will be available to answer your questions during the event.This course is being offered by a learning partner and will not be accessible on your My CPE page. Access information will be emailed directly to you by CPA Crossings\n 
CLASS:PUBLIC
END:VEVENT
END:VCALENDAR
