BEGIN:VCALENDAR
VERSION:2.0
PRODID:
BEGIN:VEVENT
UID:364081imp
DTSTAMP:20260422T223452Z
DTSTART:20270205T170000Z
DTEND:20270205T180000Z
SUMMARY: Mining Your Firm Client Database for Revenue
DESCRIPTION: Your client database is more than a record of past engagements-it's a goldmine of untapped opportunity. In this practical and forward-thinking session\, accounting professionals will learn how to strategically analyze and segment their existing client data to uncover new service opportunities\, deepen relationships\, and drive sustainable revenue growth.
From identifying cross-selling potential to leveraging automation tools for proactive outreach\, this webinar will equip firm leaders and client managers with actionable strategies to turn dormant data into dynamic business development. Whether you're a solo practitioner or part of a larger firm\, you'll walk away with a roadmap for transforming your client list into a revenue-generating engine.

This event may be a rebroadcast of a live event and the instructor will be available to answer your questions during the event.This course is being offered by a learning partner and will not be accessible on your My CPE page. Access information will be emailed directly to you by CPA Crossings\n 
CLASS:PUBLIC
END:VEVENT
END:VCALENDAR
