BEGIN:VCALENDAR
VERSION:2.0
PRODID:
BEGIN:VEVENT
UID:364051imp
DTSTAMP:20260424T055457Z
DTSTART:20270204T153000Z
DTEND:20270204T173000Z
SUMMARY: Public Procurement Basics: Protecting the People's Money
DESCRIPTION: Procurement is a critical component of successful government operations. While there are challenges in public procurement\, there are a number of guidelines and requirements that will help lead you to success. This course will offer guidance on how governments can meet complicated procurement needs and develop best practices that protect public and Federal funds.

This event may be a rebroadcast of a live event and the instructor will be available to answer your questions during the event.This course is being offered by a learning partner and will not be accessible on your My CPE page. Access information will be emailed directly to you by CPA Crossings\n 
CLASS:PUBLIC
END:VEVENT
END:VCALENDAR
