BEGIN:VCALENDAR
VERSION:2.0
PRODID:
BEGIN:VEVENT
UID:363815imp
DTSTAMP:20260423T232955Z
DTSTART:20270122T190000Z
DTEND:20270122T230000Z
SUMMARY: Disrupt to Dominate: Mastering Change Leadership
DESCRIPTION: In an era defined by rapid change and uncertainty\, effective leadership requires more than just managing teams\; it demands the courage to disrupt and innovate. This course is your blueprint for transforming potential chaos into a strategic advantage and is designed for leaders at all levels-whether you're a seasoned CEO\, an ambitious small business owner\, or an individual contributor aspiring to influence greater change. You'll gain the insights and tools needed to not only adapt to change but to lead it effectively and confidently.

This event may be a rebroadcast of a live event and the instructor will be available to answer your questions during the event.This course is being offered by a learning partner and will not be accessible on your My CPE page. Access information will be emailed directly to you by CPA Crossings\n 
CLASS:PUBLIC
END:VEVENT
END:VCALENDAR
