BEGIN:VCALENDAR
VERSION:2.0
PRODID:
BEGIN:VEVENT
UID:363805imp
DTSTAMP:20260423T150438Z
DTSTART:20270122T160000Z
DTEND:20270122T180000Z
SUMMARY: Advanced ChatGPT for Accountants
DESCRIPTION: This course concisely explains the latest "see\, hear\, speak" multi-modal updates to ChatGPT and how they can be used in an accounting context. New features include vision processing\, voice conversation\, image generation\, real-time Internet access\, advanced data analysis\, plugins and more. Discover how this technology can be used in mind-blowing ways to analyze financial data\, optimize processes\, and solve problems in the accounting domain. Through the lens of ChatGPT\, practitioners can explore innovative solutions\, automate routine tasks\, and generate deeper insights and value to their clients and organizations in previously unimaginable workflows. You'll walk away with scores of advanced ChatGPT strategies and tips that can be immediately applied and deliver instant results to elevate the efficiency and effectiveness of your accounting projects and tasks.

This event may be a rebroadcast of a live event and the instructor will be available to answer your questions during the event.This course is being offered by a learning partner and will not be accessible on your My CPE page. Access information will be emailed directly to you by CPA Crossings\n 
CLASS:PUBLIC
END:VEVENT
END:VCALENDAR
