BEGIN:VCALENDAR
VERSION:2.0
PRODID:
BEGIN:VEVENT
UID:363750imp
DTSTAMP:20260423T114609Z
DTSTART:20270120T150000Z
DTEND:20270120T170000Z
SUMMARY: The AI Revolution in 2026: What CPAs Should Know
DESCRIPTION: AI is reshaping accounting\, tax\, and finance. This update surveys the state of AI technology in 2026: core concepts\, software tools\, risks/controls\, and practical CPA use cases. You will leave with an expanded AI vocabulary\, a current view of the AI landscape\, and actionable talking points for staff\, clients\, and service providers.

This event may be a rebroadcast of a live event and the instructor will be available to answer your questions during the event.This course is being offered by a learning partner and will not be accessible on your My CPE page. Access information will be emailed directly to you by CPA Crossings\n 
CLASS:PUBLIC
END:VEVENT
END:VCALENDAR
