BEGIN:VCALENDAR
VERSION:2.0
PRODID:
BEGIN:VEVENT
UID:363694imp
DTSTAMP:20260422T225409Z
DTSTART:20270118T140000Z
DTEND:20270118T160000Z
SUMMARY: Profiles in Fraud
DESCRIPTION: Nobody is immune to fraud risk. This course opens with stories of real fraud perpetrators then examines the similarities between the fraud perpetrators\, discovering that they all have many common traits.  It finishes with techniques accountants can use to deter these behaviors.

This event may be a rebroadcast of a live event and the instructor will be available to answer your questions during the event.This course is being offered by a learning partner and will not be accessible on your My CPE page. Access information will be emailed directly to you by CPA Crossings\n 
CLASS:PUBLIC
END:VEVENT
END:VCALENDAR
