BEGIN:VCALENDAR
VERSION:2.0
PRODID:
BEGIN:VEVENT
UID:363621imp
DTSTAMP:20260421T215359Z
DTSTART:20270113T153000Z
DTEND:20270113T173000Z
SUMMARY: Erase the Mark: Best Practices in Penalty Abatement
DESCRIPTION: If there is a potential error\, the IRS will assess a tax and add a hefty penalty\, without even knowing the facts. As a tax professional\, you will be exposed to the IRS and their methods of penalizing taxpayers for the smallest of violations. This presentation will focus on the rules and regulations that create the penalty\, and the reasons that exist that the IRS will consider to remove those penalties.

This event may be a rebroadcast of a live event and the instructor will be available to answer your questions during the event.This course is being offered by a learning partner and will not be accessible on your My CPE page. Access information will be emailed directly to you by CPA Crossings\n 
CLASS:PUBLIC
END:VEVENT
END:VCALENDAR
