BEGIN:VCALENDAR
VERSION:2.0
PRODID:
BEGIN:VEVENT
UID:363573imp
DTSTAMP:20260423T203550Z
DTSTART:20270111T163000Z
DTEND:20270111T183000Z
SUMMARY: AI Prompt Engineering Masterclass for Accountants
DESCRIPTION: An advanced guide to prompting techniques that maximize AI efficiency and precision in everyday business research\, operational due diligence and accounting tasks.  Designed for accountants with no prior AI knowledge\, the session explores how simple language and strategic prompting can unlock powerful\, layered responses from large language models (LLMs). Participants will learn to overcome the "lazy" defaults of AI\, using specific techniques to enhance detail\, accuracy\, and contextual understanding in their queries. By understanding prompt engineering's role\, attendees will discover how to guide AI to provide practical\, relevant\, and analytical insights suited to complex financial scenarios\, without needing extensive technical expertise.


This event may be a rebroadcast of a live event and the instructor will be available to answer your questions during the event.This course is being offered by a learning partner and will not be accessible on your My CPE page. Access information will be emailed directly to you by CPA Crossings\n 
CLASS:PUBLIC
END:VEVENT
END:VCALENDAR
