BEGIN:VCALENDAR
VERSION:2.0
PRODID:
BEGIN:VEVENT
UID:363567imp
DTSTAMP:20260422T112807Z
DTSTART:20270111T143000Z
DTEND:20270111T163000Z
SUMMARY: Individual Tax Update: OBBA and Recent Developments
DESCRIPTION: A discussion of the latest tax developments impacting individual taxpayers\, with a focus on important provisions\, rules and concepts.

This event may be a rebroadcast of a live event and the instructor will be available to answer your questions during the event.This course is being offered by a learning partner and will not be accessible on your My CPE page. Access information will be emailed directly to you by CPA Crossings\n 
CLASS:PUBLIC
END:VEVENT
END:VCALENDAR
