BEGIN:VCALENDAR
VERSION:2.0
PRODID:
BEGIN:VEVENT
UID:363520imp
DTSTAMP:20260422T223637Z
DTSTART:20270107T160000Z
DTEND:20270107T170000Z
SUMMARY: Resistance to Resilience: Strive for Tech Change Acceptance
DESCRIPTION: Technology adoption often comes with resistance\, but it's possible to transform this challenge into an opportunity for growth. This course explores the journey from resistance to resilience in embracing new technologies\, focusing on overcoming barriers and ensuring successful implementation. Participants will examine cutting-edge audit technologies\, including AI\, data analytics\, and automation\, and learn how to align these innovations with both organizational and personal goals. Through case studies\, insights into the Technology Acceptance Model (TAM)\, and practical discussions\, participants will gain the tools and strategies to foster acceptance\, driving seamless integration of new technology into both individual tasks and team workflows.

This event may be a rebroadcast of a live event and the instructor will be available to answer your questions during the event.This course is being offered by a learning partner and will not be accessible on your My CPE page. Access information will be emailed directly to you by CPA Crossings\n 
CLASS:PUBLIC
END:VEVENT
END:VCALENDAR
