BEGIN:VCALENDAR
VERSION:2.0
PRODID:
BEGIN:VEVENT
UID:363507imp
DTSTAMP:20260424T134240Z
DTSTART:20270106T210000Z
DTEND:20270106T230000Z
SUMMARY: ChatGPT and Advanced Accounting Research
DESCRIPTION: This course provides a concise overview of how artificial intelligence\, particularly ChatGPT and other AI tools\, is transforming accounting research methodologies and practices. Students will explore the shift from traditional search engine-based research to AI-driven insights\, learning how to leverage various AI platforms for enhanced financial analysis\, regulatory compliance\, and strategic decision-making. The course emphasizes practical applications of AI in accounting contexts while addressing critical considerations such as data verification\, ethical usage\, and professional judgment.

This event may be a rebroadcast of a live event and the instructor will be available to answer your questions during the event.This course is being offered by a learning partner and will not be accessible on your My CPE page. Access information will be emailed directly to you by CPA Crossings\n 
CLASS:PUBLIC
END:VEVENT
END:VCALENDAR
