BEGIN:VCALENDAR
VERSION:2.0
PRODID:
BEGIN:VEVENT
UID:363501imp
DTSTAMP:20260423T104531Z
DTSTART:20270106T183000Z
DTEND:20270106T203000Z
SUMMARY: Criminal Tax: How CPAs Bring Value to Defense Attorneys
DESCRIPTION: CPAs can be requested to assist attorneys in litigation support in criminal proceedings. For criminal tax cases\, the IRS has recommended prosecution. However\, the rules and stakes are different than a simple civil audit. This presentation will focus on how to assist defense attorneys in calculating tax loss\, asking the right questions\, and probe possible weaknesses in criminal tax investigations.

This event may be a rebroadcast of a live event and the instructor will be available to answer your questions during the event.This course is being offered by a learning partner and will not be accessible on your My CPE page. Access information will be emailed directly to you by CPA Crossings\n 
CLASS:PUBLIC
END:VEVENT
END:VCALENDAR
