BEGIN:VCALENDAR
VERSION:2.0
PRODID:
BEGIN:VEVENT
UID:363400imp
DTSTAMP:20260424T110134Z
DTSTART:20261231T140000Z
DTEND:20261231T220000Z
SUMMARY: Spring Tax Update with Steve Dilley
DESCRIPTION: This program provides an update on the latest tax developments\, rules and regulations impacting individual and business taxpayers\, including a review and integration of the most recent legislation.

This event may be a rebroadcast of a live event and the instructor will be available to answer your questions during the event.This course is being offered by a learning partner and will not be accessible on your My CPE page. Access information will be emailed directly to you by CPA Crossings\n 
CLASS:PUBLIC
END:VEVENT
END:VCALENDAR
