BEGIN:VCALENDAR
VERSION:2.0
PRODID:
BEGIN:VEVENT
UID:363327imp
DTSTAMP:20260422T042620Z
DTSTART:20261228T170000Z
DTEND:20261228T190000Z
SUMMARY: Tax Depreciation: Review and Update
DESCRIPTION: A discussion of recent law changes that impact capitalization\, depreciation\, and disposition of assets.

This event may be a rebroadcast of a live event and the instructor will be available to answer your questions during the event.This course is being offered by a learning partner and will not be accessible on your My CPE page. Access information will be emailed directly to you by CPA Crossings\n 
CLASS:PUBLIC
END:VEVENT
END:VCALENDAR
