BEGIN:VCALENDAR
VERSION:2.0
PRODID:
BEGIN:VEVENT
UID:363240imp
DTSTAMP:20260423T110320Z
DTSTART:20261222T180000Z
DTEND:20261222T200000Z
SUMMARY: Internal Control - Testing for Operating Effectiveness
DESCRIPTION: Properly designed and effectively operating internal control over financial reporting is critical for preventing\, or detecting and correcting\, material misstatement. This course describes how to satisfy the audit requirements related to taking a control reliance strategy by testing the operating effectiveness of internal controls\, while promoting an effective and efficient financial statement audit.

This event may be a rebroadcast of a live event and the instructor will be available to answer your questions during the event.This course is being offered by a learning partner and will not be accessible on your My CPE page. Access information will be emailed directly to you by CPA Crossings\n 
CLASS:PUBLIC
END:VEVENT
END:VCALENDAR
