BEGIN:VCALENDAR
VERSION:2.0
PRODID:
BEGIN:VEVENT
UID:363220imp
DTSTAMP:20260422T011615Z
DTSTART:20261221T193000Z
DTEND:20261221T203000Z
SUMMARY: Business Partnerships: Managing Supplier Relationships
DESCRIPTION: As financial leaders\, CPAs are often tasked with managing organizational risk. In this respect\, the supplier relationship can be a tricky one. It is often one of the more familiar and comfortable business relationships we have\, yet it may also be the one that presents the most significant risk to our company. In this course\, we will explore how to manage the supplier relationship from onboarding to termination. Through case studies and best practices\, we will discuss how to continue being a good partner to our suppliers while also understanding where potential risks exist. 

This event may be a rebroadcast of a live event and the instructor will be available to answer your questions during the event.This course is being offered by a learning partner and will not be accessible on your My CPE page. Access information will be emailed directly to you by CPA Crossings\n 
CLASS:PUBLIC
END:VEVENT
END:VCALENDAR
