BEGIN:VCALENDAR
VERSION:2.0
PRODID:
BEGIN:VEVENT
UID:363108imp
DTSTAMP:20260422T044241Z
DTSTART:20261216T140000Z
DTEND:20261216T180000Z
SUMMARY: Fundamentals of Form 1040 -- Business
DESCRIPTION: This course builds on the foundational knowledge from Part 1\, Fundamentals of the 1040 - Core Concepts.  It expands into business income taxation and additional reporting requirements.  Participants will learn how to accurately report self-employment income\, income from pass-through entities on Form 1040.  This course covers Schedule C\, Schedule E\, and essential forms such as Form 7203 and Form 7217 to ensure accurate tax preparation for clients with business activities.

This event may be a rebroadcast of a live event and the instructor will be available to answer your questions during the event.This course is being offered by a learning partner and will not be accessible on your My CPE page. Access information will be emailed directly to you by CPA Crossings\n 
CLASS:PUBLIC
END:VEVENT
END:VCALENDAR
