BEGIN:VCALENDAR
VERSION:2.0
PRODID:
BEGIN:VEVENT
UID:363037imp
DTSTAMP:20260423T010212Z
DTSTART:20261211T190000Z
DTEND:20261211T210000Z
SUMMARY: Generative AI Strategy for Accountants
DESCRIPTION: This course empowers accountants with the knowledge and skills needed to strategically implement generative AI within their firms\, positioning them at the forefront of innovation and operational efficiency. As generative AI platforms like ChatGPT\, Claude\, and Gemini transform business practices\, accountants will learn to harness these tools to drive value\, streamline processes\, and enhance decision-making.  Through examination of the current AI landscape\, practical frameworks\, and real-world applications\, participants will learn how to leverage AI technologies to enhance accounting operations while maintaining professional standards and ethical considerations. The course emphasizes a balanced approach to AI adoption that focuses on augmenting human capabilities rather than replacement.

This event may be a rebroadcast of a live event and the instructor will be available to answer your questions during the event.This course is being offered by a learning partner and will not be accessible on your My CPE page. Access information will be emailed directly to you by CPA Crossings\n 
CLASS:PUBLIC
END:VEVENT
END:VCALENDAR
