BEGIN:VCALENDAR
VERSION:2.0
PRODID:
BEGIN:VEVENT
UID:362983imp
DTSTAMP:20260422T225250Z
DTSTART:20261209T160000Z
DTEND:20261209T180000Z
SUMMARY: How to Audit Accounting Estimates
DESCRIPTION: When auditing management's accounting estimates\, increased professional skepticism is necessary as there is always the potential for bias in areas of increased subjectivity & complexity. This course will demonstrate procedures to test the process used by management to develop estimates\, as well as walk through common examples of accounting estimates that are included in the financial statements. It includes the updated requirements in SAS 143.

This event may be a rebroadcast of a live event and the instructor will be available to answer your questions during the event.This course is being offered by a learning partner and will not be accessible on your My CPE page. Access information will be emailed directly to you by CPA Crossings\n 
CLASS:PUBLIC
END:VEVENT
END:VCALENDAR
