BEGIN:VCALENDAR
VERSION:2.0
PRODID:
BEGIN:VEVENT
UID:362978imp
DTSTAMP:20260423T195822Z
DTSTART:20261209T143000Z
DTEND:20261209T163000Z
SUMMARY: Technology Trends for CPAs and CFOs: 2026 Update
DESCRIPTION: Believe it or not\, AI is not the only mega trend in the information technology landscape. There are many other trends that enable and leverage the power of AI. As a CPA professional\, it is imperative that you develop a baseline understanding of the key technology trends that are impacting businesses across the board. This course will provide the   update you need to help you understand the nature of the key technologies and the role they play.

This event may be a rebroadcast of a live event and the instructor will be available to answer your questions during the event.This course is being offered by a learning partner and will not be accessible on your My CPE page. Access information will be emailed directly to you by CPA Crossings\n 
CLASS:PUBLIC
END:VEVENT
END:VCALENDAR
