BEGIN:VCALENDAR
VERSION:2.0
PRODID:
BEGIN:VEVENT
UID:362964imp
DTSTAMP:20260424T053916Z
DTSTART:20261208T190000Z
DTEND:20261208T210000Z
SUMMARY: Take Command of your Time
DESCRIPTION: Manage distractions\, decrease stress and improve productivity. This training is designed to help business professionals improve their productivity and work performance by learning how to prioritize time\, decrease distractions and lower stress.

This event may be a rebroadcast of a live event and the instructor will be available to answer your questions during the event.This course is being offered by a learning partner and will not be accessible on your My CPE page. Access information will be emailed directly to you by CPA Crossings\n 
CLASS:PUBLIC
END:VEVENT
END:VCALENDAR
