BEGIN:VCALENDAR
VERSION:2.0
PRODID:
BEGIN:VEVENT
UID:362956imp
DTSTAMP:20260424T164732Z
DTSTART:20261208T153000Z
DTEND:20261208T173000Z
SUMMARY: Beyond the Numbers: Success Strategies for Female CPAs
DESCRIPTION: Women finance leaders face challenges that traditional corporate training and mentoring rarely prepare them to overcome. For example\, you've demonstrated yourself as an excellent tactician\, you know how to get the job done\, and do it very well on your own. Yet\, what got you to your current level of success won't get you to the next level. 

It's time to change the way you think and operate in your role. You need to move from doer to leader. You're familiar with the saying that if you want to go fast\, go alone\, if you want to go far\, go together. 

In this workshop\, you'll learn key strategies that are unique and critical to women to be successful in their careers. These strategies will help you grow\, expand and elevate yourself professionally. 

This event may be a rebroadcast of a live event and the instructor will be available to answer your questions during the event.This course is being offered by a learning partner and will not be accessible on your My CPE page. Access information will be emailed directly to you by CPA Crossings\n 
CLASS:PUBLIC
END:VEVENT
END:VCALENDAR
