BEGIN:VCALENDAR
VERSION:2.0
PRODID:
BEGIN:VEVENT
UID:362814imp
DTSTAMP:20260423T014623Z
DTSTART:20261201T140000Z
DTEND:20261201T150000Z
SUMMARY: What If Your Client Didn't Take Reasonable Compensation
DESCRIPTION: Are you a new advisor handling S Corp clients\, or perhaps a seasoned professional facing this common scenario: "My S Corp client didn't take reasonable compensation last year. Now what?" Knowing that reasonable compensation isn't just a tax obligation\, but a strategic financial decision\, you need to be armed with expert knowledge to help your client navigate this situation. Join us to discuss IRS regulations\, understand preventive measures\, and address challenges within the year.

This event may be a rebroadcast of a live event and the instructor will be available to answer your questions during the event.This course is being offered by a learning partner and will not be accessible on your My CPE page. Access information will be emailed directly to you by CPA Crossings\n 
CLASS:PUBLIC
END:VEVENT
END:VCALENDAR
